BEGIN:VCALENDAR
VERSION:2.0
PRODID:-//ChamberMaster//Event Calendar 2.0//EN
METHOD:PUBLISH
X-PUBLISHED-TTL:P3D
REFRESH-INTERVAL:P3D
CALSCALE:GREGORIAN
BEGIN:VEVENT
DTSTART:20260428T230000Z
DTEND:20260429T010000Z
X-MICROSOFT-CDO-ALLDAYEVENT:FALSE
SUMMARY:Panel Discussion: When Creativity Clashes with Fact: How do you know when the truth is true?
DESCRIPTION:In conversation with Playhouse on Park's production of The Lifespan of a Fact Tuesday\, April 28th at 7:00 pm. Reception beginning at 6:00 pm\, dessert reception to follow the discussion. Free admission. RSVP to boxoffice@playhousetheatregroup.org or 860-523-5900 ext.10
X-ALT-DESC;FMTTYPE=text/html:In conversation with Playhouse on Park&rsquo\;s production of The Lifespan of a Fact Tuesday\, April 28th at 7:00 pm. Reception beginning at 6:00 pm\, dessert reception to follow the discussion. Free admission. RSVP to boxoffice@playhousetheatregroup.org or 860-523-5900 ext.10
LOCATION:Playhouse on Park 244 Park Road\, West Hartford CT
UID:e.3366.3825
SEQUENCE:3
DTSTAMP:20260425T005254Z
URL:http://www.simsburycoc.com/events/details/panel-discussion-when-creativity-clashes-with-fact-how-do-you-know-when-the-truth-is-true-3825
END:VEVENT

END:VCALENDAR
