BEGIN:VCALENDAR
VERSION:2.0
PRODID:-//ChamberMaster//Event Calendar 2.0//EN
METHOD:PUBLISH
X-PUBLISHED-TTL:P3D
REFRESH-INTERVAL:P3D
CALSCALE:GREGORIAN
BEGIN:VEVENT
DTSTART;VALUE=DATE:20250218
DTEND;VALUE=DATE:20250219
TRANSP:TRANSPARENT
X-MICROSOFT-CDO-ALLDAYEVENT:TRUE
SUMMARY:Sweetgreen Grand Opening
DESCRIPTION:Join us as we celebrate Sweetgreen's opening at The Shops at Farmington Valley\; the first 150 customers will receive amazing goodies and enjoy local vendor moments. For every meal purchased\, Sweetgreen will donate to Food Rescue US to nourish people experiencing insecurity in Hartford County. \n\n\n\n\n\nAbout Sweetgreen:\n\nSweetgreen is a modern culinary brand specializing in fresh\, thoughtfully sourced salads and grain bowls. Founded in 2007 by three Georgetown University graduates\, Sweetgreen is committed to sustainability and community\, partnering with local farmers to provide peak-season ingredients. Their menu offers a dynamic selection of customizable\, nutrient-rich options\, including plant-based\, vegan\, and gluten-free choices\, designed to inspire a balanced lifestyle. With a focus on innovation and environmental responsibility\, Sweetgreen prioritizes eco-friendly packaging and a minimal carbon footprint\, redefining the way people experience real\, wholesome food.
X-ALT-DESC;FMTTYPE=text/html:<p><br />\nJoin us as we celebrate Sweetgreen&#39\;s opening at The Shops at Farmington Valley\; the first 150 customers will receive amazing goodies and enjoy local vendor moments. For every meal purchased\, Sweetgreen will donate to Food Rescue US to nourish people experiencing insecurity in Hartford County.&nbsp\;<br />\n<br />\n<br />\nAbout Sweetgreen:<br />\nSweetgreen is a modern culinary brand specializing in fresh\, thoughtfully sourced salads and grain bowls. Founded in 2007 by three Georgetown University graduates\, Sweetgreen is committed to sustainability and community\, partnering with local farmers to provide peak-season ingredients. Their menu offers a dynamic selection of customizable\, nutrient-rich options\, including plant-based\, vegan\, and gluten-free choices\, designed to inspire a balanced lifestyle. With a focus on innovation and environmental responsibility\, Sweetgreen prioritizes eco-friendly packaging and a minimal carbon footprint\, redefining the way people experience real\, wholesome food.<br />\n&nbsp\;</p>\n
LOCATION:Sweetgreen is located next to Warby Parker in the Shops at Farmington Valley - 110 Albany Turnpike (\\Route 44) \, Canton\, CT
UID:e.3366.3350
SEQUENCE:3
DTSTAMP:20260420T064231Z
URL:http://www.simsburycoc.com/events/details/sweetgreen-grand-opening-3350
END:VEVENT

END:VCALENDAR
