BEGIN:VCALENDAR
VERSION:2.0
PRODID:-//ChamberMaster//Event Calendar 2.0//EN
METHOD:PUBLISH
X-PUBLISHED-TTL:P3D
REFRESH-INTERVAL:P3D
CALSCALE:GREGORIAN
BEGIN:VEVENT
DTSTART:20260227T123000Z
DTEND:20260227T143000Z
X-MICROSOFT-CDO-ALLDAYEVENT:FALSE
SUMMARY:2026 Business Leaders Breakfast
DESCRIPTION:Kick off the year with an inspiring morning at the Business Leaders Breakfast\, set for Friday\, February 27\, 2026\, from 7:30 to 9:30 AM at the Simsbury Inn. \nLeadership Insights & Experiences | The Next Level of Professional Growth\n  This event features keynote speakers Lisa Tepper Bates\, President and CEO of United Way of Connecticut and Rhona C. Free\, PhD.\, President of the University of Saint Joseph.\n\n\n\nJoin us for a dynamic and pivotal business networking breakfast dedicated to exploring the insights and transformative experiences of pioneering women leaders.\n\nDiscover how these leaders navigated challenges\, built successful careers\, and are actively shaping the future of their industries. Prepare to enrich your perspective\, fuel your personal and professional journey\, and connect with a community committed to powerful progress. \n\n\n\nTICKETS\n\nChamber Members $45.00 / per ticket\n\nNon-Members $55.00 / per ticket\n\nTables available for $450.00 (10 tickets)\n\n\n\nSponsorships start at $500.00 - Consider sponsoring!
X-ALT-DESC;FMTTYPE=text/html:<span style="font-size:16px\;"><span style="font-family:times new roman\;">Kick off the year with an inspiring morning at the Business Leaders Breakfast\, set for Friday\, February 27\, 2026\, from 7:30 to 9:30 AM at the Simsbury Inn. </span></span>\n<h2 data-pm-slice="1 1 []"><span style="font-size:16px\;"><span style="font-family:times new roman\;"><strong>Leadership Insights &amp\; Experiences | The Next Level of Professional Growth</strong></span></span></h2>\n<span style="font-size:16px\;"> <span style="font-family:times new roman\;"> This event features keynote speakers <strong>Lisa Tepper Bates\, President and CEO of United Way of Connecticut </strong>and <strong>Rhona C. Free\, PhD.\,&nbsp\;President of the University of Saint Joseph</strong>.<br />\n<br />\nJoin us for a dynamic and pivotal business networking breakfast dedicated to exploring the&nbsp\;insights and transformative experiences of pioneering women leaders.<br />\nDiscover how these leaders navigated challenges\, built successful careers\, and are actively shaping the future of their industries. Prepare to enrich your perspective\, fuel your personal and professional journey\, and connect with a community committed to powerful progress.&nbsp\;<br />\n<br />\nTICKETS<br />\nChamber Members $45.00 / per ticket<br />\nNon-Members $55.00 / per ticket<br />\nTables available for $450.00 (10 tickets)<br />\n<br />\nSponsorships start at $500.00 - Consider sponsoring!</span></span><br />\n<br />\n&nbsp\;
LOCATION:The Simsbury Inn 397 Hopmeadow St. Simsbury\, CT
UID:e.3366.3695
SEQUENCE:3
DTSTAMP:20260419T164713Z
URL:https://www.simsburycoc.com/events/details/2026-business-leaders-breakfast-3695
END:VEVENT

END:VCALENDAR
