BEGIN:VCALENDAR
VERSION:2.0
PRODID:-//ChamberMaster//Event Calendar 2.0//EN
METHOD:PUBLISH
X-PUBLISHED-TTL:P3D
REFRESH-INTERVAL:P3D
CALSCALE:GREGORIAN
BEGIN:VEVENT
DTSTART;VALUE=DATE:20251129
DTEND;VALUE=DATE:20251130
TRANSP:TRANSPARENT
X-MICROSOFT-CDO-ALLDAYEVENT:TRUE
SUMMARY:3rd Annual Letters to Santa & Hot Chocolate to Celebrate Simsbury @SubherbanLivin
DESCRIPTION:Join SubherbanLivin & Simsbury Rugby for Simsbury's Give Back Gift Shop for their 3rd annual "Letters to Santa" event.\n\nCome by between 5-8pm on 11/29 to enjoy 10% off everything in the store\, meet some SHS Rugby players\, enjoy some free hot chocolate AND send off those letters to Santa.\n\nThe North Pole mailbox is open 11/29 to 12/13.
X-ALT-DESC;FMTTYPE=text/html:<div>Join SubherbanLivin &amp\; Simsbury Rugby for Simsbury&#39\;s Give Back Gift Shop for their 3rd annual &quot\;Letters to Santa&quot\; event.</div>\n\n<div>Come by between 5-8pm on 11/29 to enjoy 10% off everything in the store\, meet some SHS Rugby players\, enjoy some free hot chocolate AND send off those letters to Santa.</div>\n\n<div>The North Pole mailbox is open 11/29 to 12/13.</div>\n
LOCATION:10 Jim Gallagher Way Simsbury CT
UID:e.3366.3693
SEQUENCE:3
DTSTAMP:20260419T230322Z
URL:https://www.simsburycoc.com/events/details/3rd-annual-letters-to-santa-hot-chocolate-to-celebrate-simsbury-subherbanlivin-3693
END:VEVENT

END:VCALENDAR
