BEGIN:VCALENDAR
VERSION:2.0
PRODID:-//ChamberMaster//Event Calendar 2.0//EN
METHOD:PUBLISH
X-PUBLISHED-TTL:P3D
REFRESH-INTERVAL:P3D
CALSCALE:GREGORIAN
BEGIN:VEVENT
DTSTART:20260130T230000Z
DTEND:20260131T010000Z
X-MICROSOFT-CDO-ALLDAYEVENT:FALSE
SUMMARY:Adult Blind Draw Tennis Mixer
DESCRIPTION:Ready to mix things up on the court? Join RFL Simsbury for our next Adult Blind Draw Tennis Mixer! \n\n\n\nFriday\, January 30\n\n6:00 to 8:00 PM\n\n\n\nNames are drawn out of a hat for first-round partners\, then winning teams stay together and play other winning teams\, while non-winning teams get new partners. Individuals with the highest winning percentages will make the final championship round.\n\n\n\nOpen to players level 3.5 and under. Just bring your racquet\, energy\, and love for the game.\n\n\n\n$35/Members & $45/Non-Members (includes food and beverage)\n\n\n\nRegister now to reserve your spot! Space is limited to the first 16 players \n\n https://www.rflsimsbury.com/pages/ctrflsimsbury/events/adult-tennis-blind-draw-tennis-mixer_958289.cfm
X-ALT-DESC;FMTTYPE=text/html:<span style="color:rgb(0\, 0\, 0)\; font-family:arial\; font-size:10pt"><span style="font-size:10pt">Ready to mix things up on the court? Join RFL Simsbury for our next Adult Blind Draw Tennis Mixer!&nbsp\;<br />\n<br />\nFriday\, January 30<br />\n6:00 to 8:00 PM<br />\n<br />\nNames are drawn out of a hat for first-round partners\, then winning teams stay together and play other winning teams\, while non-winning teams get new partners. Individuals with the highest winning percentages will make the final championship round.<br />\n<br />\nOpen to players level 3.5 and under. Just bring your racquet\, energy\, and love for the game.<br />\n<br />\n$35/Members &amp\; $45/Non-Members (includes food and beverage)<br />\n<br />\nRegister now to reserve your spot! Space is limited to the first 16 players&nbsp\;<br />\n&nbsp\;</span><span style="color:rgb(17\, 85\, 204)\; font-size:10pt"><a class="in-cell-link" href="https://www.rflsimsbury.com/pages/ctrflsimsbury/events/adult-tennis-blind-draw-tennis-mixer_958289.cfm" target="_blank">https://www.rflsimsbury.com/pages/ctrflsimsbury/events/adult-tennis-blind-draw-tennis-mixer_958289.cfm</a></span></span>
LOCATION:530 Hopmeadow Street Simsbury\, CT 06070
UID:e.3366.3760
SEQUENCE:3
DTSTAMP:20260419T183346Z
URL:https://www.simsburycoc.com/events/details/adult-blind-draw-tennis-mixer-01-30-2026-3760
END:VEVENT

END:VCALENDAR
