BEGIN:VCALENDAR
VERSION:2.0
PRODID:-//ChamberMaster//Event Calendar 2.0//EN
METHOD:PUBLISH
X-PUBLISHED-TTL:P3D
REFRESH-INTERVAL:P3D
CALSCALE:GREGORIAN
BEGIN:VEVENT
DTSTART:20250202T070000Z
DTEND:20250202T220000Z
X-MICROSOFT-CDO-ALLDAYEVENT:FALSE
SUMMARY:Adult Doubles Camp 4.0 & Under III
DESCRIPTION:By Popular Demand\, the third in a series of camps is announced\, Adult Doubles Camp 4.0 & Under III will be hosted by Jim Burda and his RFL Team!\n\n\n\nJoin Owner Jim Burda\, a Two-Time USPTA Illinois Professional of the Year\, Two-Time NCAA National Collegiate Doubles Champion\, and Multiple National Level 1 Senior Silver Ball Winner and his certified RFL Staff for a unique sharing and on court doubles strategy camp. Burda was coached by Barry Nixon\, a member of the Illinois High School Coaches Hall of Fame and George Acker\, National Collegiate Coach of the Year award winner and coach to Vic Braden. Jim plans to share time-proven tips from these legendary coaches!\n\n\n\nThe focus of the Camp III includes (but is not limited to):\n\n	How and when to use different strategies against different teams\n	Poaching when your partner's serve is softer\n	Distorting the Court on Return of Serve\n	Setting up your net partner for success\n	Defending the lob\n\nSunday\, February 2\n\n2:00 to 4:30 pm\; Food & Beverage w/ "Strategy Chalk Talk" until 5:00 pm included.\n\n$75/members & $85/non-members\n\n\n\nSpace is limited to the first 24 players! Register today at:\n\nhttps://www.rflsimsbury.com/pages/ctrflsimsbury/events/adult-40-and-under-doubles-camp-iii-with-jim-burda_940723.cfm
X-ALT-DESC;FMTTYPE=text/html:<span style="color:rgb(0\, 0\, 0)\; font-family:arial\; font-size:10pt"><span style="font-size:10pt">By Popular Demand\, the third in a series of camps is announced\, Adult Doubles Camp 4.0 &amp\; Under III will be hosted by Jim Burda and his RFL Team!<br />\n<br />\nJoin Owner Jim Burda\, a Two-Time USPTA Illinois Professional of the Year\, Two-Time NCAA National Collegiate Doubles Champion\, and Multiple National Level 1 Senior Silver Ball Winner and his certified RFL Staff for a unique sharing and on court doubles strategy camp. Burda was coached by Barry Nixon\, a member of the Illinois High School Coaches Hall of Fame and George Acker\, National Collegiate Coach of the Year award winner and coach to Vic Braden. Jim plans to share time-proven tips from these legendary coaches!<br />\n<br />\nThe focus of the Camp III includes (but is not limited to):</span></span>\n<ul>\n	<li><span style="color:rgb(0\, 0\, 0)\; font-family:arial\; font-size:10pt"><span style="font-size:10pt">How and when to use different strategies against different teams</span></span></li>\n	<li><span style="color:rgb(0\, 0\, 0)\; font-family:arial\; font-size:10pt"><span style="font-size:10pt">Poaching when your partner&#39\;s serve is softer</span></span></li>\n	<li><span style="color:rgb(0\, 0\, 0)\; font-family:arial\; font-size:10pt"><span style="font-size:10pt">Distorting the Court on Return of Serve</span></span></li>\n	<li><span style="color:rgb(0\, 0\, 0)\; font-family:arial\; font-size:10pt"><span style="font-size:10pt">Setting up your net partner for success</span></span></li>\n	<li><span style="color:rgb(0\, 0\, 0)\; font-family:arial\; font-size:10pt"><span style="font-size:10pt">Defending the lob</span></span></li>\n</ul>\n<span style="color:rgb(0\, 0\, 0)\; font-family:arial\; font-size:10pt"><span style="font-size:10pt">Sunday\, February 2<br />\n2:00 to 4:30 pm\; Food &amp\; Beverage w/ &ldquo\;Strategy Chalk Talk&rdquo\; until 5:00 pm included.<br />\n$75/members &amp\; $85/non-members<br />\n<br />\nSpace is limited to the first 24 players! Register today at:</span></span><br />\nhttps://www.rflsimsbury.com/pages/ctrflsimsbury/events/adult-40-and-under-doubles-camp-iii-with-jim-burda_940723.cfm
LOCATION:Racquets For Life Simsbury 530 Hopmeadow Street Simsbury\, CT 06070
UID:e.3366.3091
SEQUENCE:3
DTSTAMP:20260424T212535Z
URL:https://www.simsburycoc.com/events/details/adult-doubles-camp-4-0-under-iii-3091
END:VEVENT

END:VCALENDAR
