BEGIN:VCALENDAR
VERSION:2.0
PRODID:-//ChamberMaster//Event Calendar 2.0//EN
METHOD:PUBLISH
X-PUBLISHED-TTL:P3D
REFRESH-INTERVAL:P3D
CALSCALE:GREGORIAN
BEGIN:VEVENT
DTSTART:20250302T220000Z
DTEND:20250303T000000Z
X-MICROSOFT-CDO-ALLDAYEVENT:FALSE
SUMMARY:Adult Pickleball Blind Draw Party
DESCRIPTION:Join RFL Simsbury on Sunday\, March 2 from 5-7pm for its Adult Pickleball Blind Draw Party (for levels 2.6-3.5)!\n\n\n\nNames are drawn out of a hat for first-round partners\, then winning teams stay together and play other winning teams\, while non-winning teams get new partners. Individuals with the highest winning percentages will make the final championship round.\n\n\n\nCost: $20/Members\, $25/Non-Members (includes food and beverage)\n\n\n\nSpace is limited to the first 24 people\, so register soon before it sells out! https://www.rflsimsbury.com/pages/ctrflsimsbury/events/adult-pickleball-blind-draw-party_940878.cfm
X-ALT-DESC;FMTTYPE=text/html:<span style="color:rgb(0\, 0\, 0)\; font-family:arial\; font-size:10pt"><span style="font-size:10pt">Join RFL Simsbury on Sunday\, March 2 from 5-7pm for its Adult Pickleball Blind Draw Party (for levels 2.6-3.5)!<br />\n<br />\nNames are drawn out of a hat for first-round partners\, then winning teams stay together and play other winning teams\, while non-winning teams get new partners. Individuals with the highest winning percentages will make the final championship round.<br />\n<br />\nCost: $20/Members\, $25/Non-Members (includes food and beverage)<br />\n<br />\nSpace is limited to the first 24 people\, so register soon before it sells out! </span><span style="color:rgb(17\, 85\, 204)\; font-size:10pt"><a class="in-cell-link" href="https://www.rflsimsbury.com/pages/ctrflsimsbury/events/adult-pickleball-blind-draw-party_940878.cfm" target="_blank">https://www.rflsimsbury.com/pages/ctrflsimsbury/events/adult-pickleball-blind-draw-party_940878.cfm</a></span></span>
LOCATION:Racquets for Life Simsbury 530 Hopmeadow Street Simsbury\, CT 06070
UID:e.3366.3337
SEQUENCE:3
DTSTAMP:20260424T212315Z
URL:https://www.simsburycoc.com/events/details/adult-pickleball-blind-draw-party-03-02-2025-3337
END:VEVENT

END:VCALENDAR
