BEGIN:VCALENDAR
VERSION:2.0
PRODID:-//ChamberMaster//Event Calendar 2.0//EN
METHOD:PUBLISH
X-PUBLISHED-TTL:P3D
REFRESH-INTERVAL:P3D
CALSCALE:GREGORIAN
BEGIN:VEVENT
DTSTART:20260129T220000Z
DTEND:20260130T000000Z
X-MICROSOFT-CDO-ALLDAYEVENT:FALSE
SUMMARY:After Hours | Grand Opening | Simsbury Dental Associates
DESCRIPTION:We invite you to experience the future of dental care at the official Ribbon Cutting and After-Hours Open House at Simsbury Dental Associates. As we celebrate our opening\, we look forward to a long legacy of clinical excellence and community partnership. Step inside to explore our cutting-edge technology and enjoy an evening designed for networking with staff\, chamber members\, and other business professionals. \n\n\n\n\n\nThe After Hours are the Chamber's monthly networking events held at local businesses. These networking events help ensure you make the connections you need and want to grow your business.\n\nEvening networking events are casual and fun\, and where business gets done! Refreshments will be served!
X-ALT-DESC;FMTTYPE=text/html:<span style="font-size:14px\;">We invite you to experience the future of dental care at the official <b data-index-in-node="70" data-path-to-node="3">Ribbon Cutting and After-Hours Open House</b>&nbsp\;at Simsbury Dental Associates. As we celebrate our opening\, we look forward to a long legacy of clinical excellence and community partnership.&nbsp\;Step inside to explore our cutting-edge technology and enjoy an evening designed for networking with staff\, chamber members\, and other business professionals.&nbsp\;</span><br />\n<br />\n<br />\n<span style="box-sizing: border-box\; color: rgb(49\, 60\, 89)\; font-family: Georgia\, sans-serif\; font-weight: 700\; font-size: 14px\;">The After Hours are the Chamber&#39\;s monthly networking events held at local businesses. These networking events help ensure you make the connections you need and want to grow your business.</span><br style="box-sizing: border-box\; color: rgb(49\, 60\, 89)\; font-family: Georgia\, sans-serif\; font-size: 16px\; font-weight: 700\;" />\n<span style="box-sizing: border-box\; color: rgb(49\, 60\, 89)\; font-family: Georgia\, sans-serif\; font-weight: 700\; font-size: 14px\;">Evening networking events are casual and fun\, and where business gets done! Refreshments will be served!</span>
LOCATION:381 Hopmeadow St. Suite 302
UID:e.3366.3763
SEQUENCE:3
DTSTAMP:20260419T183311Z
URL:https://www.simsburycoc.com/events/details/after-hours-grand-opening-simsbury-dental-associates-3763
END:VEVENT

END:VCALENDAR
