BEGIN:VCALENDAR
VERSION:2.0
PRODID:-//ChamberMaster//Event Calendar 2.0//EN
METHOD:PUBLISH
X-PUBLISHED-TTL:P3D
REFRESH-INTERVAL:P3D
CALSCALE:GREGORIAN
BEGIN:VEVENT
DTSTART:20260326T210000Z
DTEND:20260326T230000Z
X-MICROSOFT-CDO-ALLDAYEVENT:FALSE
SUMMARY:After Hours |Third Thursday | The Ethel Walker School
DESCRIPTION:We warmly invite you to join us for a special After-Hours event as we celebrate our school's enduring mission to empower our students in achieving their highest academic and personal goals. As we look forward to many more years of excellence\, we recognize that our strength lies in our community. This evening offers a premier opportunity to network with fellow Chamber members and local business professionals. Set against the backdrop of our historic campus\, it is the perfect environment to forge new partnerships\, exchange ideas with industry peers\, and expand your professional circle within an influential network of community leaders.\n\n\n\n\n\n\nThe After Hours are the Chamber's monthly networking events held at local businesses. These networking events help ensure you make the connections you need and want to grow your business.\n\nEvening networking events are casual and fun\, and where business gets done! Refreshments will be served!\n\n \n\n\n\nABOUT THE SCHOOL:\n\n\n\nThe Ethel Walker School is an independent\, college preparatory\, boarding and day school for girls in grades 7 through 12 and PG.\n\nFor generations\, young women have come to The Ethel Walker School to discover their capabilities in a community that cherishes learning and curiosity. At Walker's\, girls in grades 7 12 grow in their confidence and sense of higher purpose. They flourish\, with each girl knowing that she will become the person she is meant to be.
X-ALT-DESC;FMTTYPE=text/html:<p data-path-to-node="2"><span style="font-size:14px\;">We warmly invite you to join us for a special After-Hours event&nbsp\;as we celebrate our school&#39\;s enduring mission to empower our students in achieving their highest academic and personal goals. As we look forward to many more years of excellence\, we recognize that our strength lies in our community. This evening offers a&nbsp\;<b data-index-in-node="22" data-path-to-node="3">premier opportunity to network with fellow Chamber members and local business professionals</b><b data-index-in-node="22" data-path-to-node="3">.</b> Set against the backdrop of our historic campus\, it is the perfect environment to forge new partnerships\, exchange ideas with industry peers\, and expand your professional circle within an influential network of community leaders.</span></p>\n<br />\n<br />\n<br />\n<span style="box-sizing: border-box\; color: rgb(49\, 60\, 89)\; font-family: Georgia\, sans-serif\; font-weight: 700\; font-size: 14px\;">The After Hours are the Chamber&#39\;s monthly networking events held at local businesses. These networking events help ensure you make the connections you need and want to grow your business.</span><br style="box-sizing: border-box\; color: rgb(49\, 60\, 89)\; font-family: Georgia\, sans-serif\; font-size: 16px\; font-weight: 700\;" />\n<span style="box-sizing: border-box\; color: rgb(49\, 60\, 89)\; font-family: Georgia\, sans-serif\; font-weight: 700\; font-size: 14px\;">Evening networking events are casual and fun\, and where business gets done! Refreshments will be served!</span><br style="box-sizing: border-box\; color: rgb(49\, 60\, 89)\; font-family: Georgia\, sans-serif\; font-size: 16px\; font-weight: 700\;" />\n<span style="color: rgb(49\, 60\, 89)\; font-family: Georgia\, sans-serif\; font-size: 16px\; font-weight: 700\;">&nbsp\;</span><br />\n<br />\n<strong><span style="font-family:arial\;">ABOUT THE SCHOOL:</span></strong><br />\n<br />\n<span style="font-size:14px\;"><span style="font-family:arial\;"><span style="color: rgb(0\, 0\, 0)\;">The Ethel Walker School is an independent\, college preparatory\, boarding and day school for girls in grades 7 through 12 and PG.</span><br />\n<span style="color: rgb(0\, 0\, 0)\;">For generations\, young women have come to The Ethel Walker School to discover their capabilities in a community that cherishes learning and curiosity. At Walker&rsquo\;s\, girls in grades 7&ndash\;12 grow in their confidence and sense of higher purpose. They flourish\, with each girl knowing that she will become the person she is meant to be.</span></span></span><br />\n&nbsp\;
LOCATION:230 Bushy Hill Road Simsbury
UID:e.3366.3762
SEQUENCE:3
DTSTAMP:20260419T150518Z
URL:https://www.simsburycoc.com/events/details/after-hours-third-thursday-the-ethel-walker-school-3762
END:VEVENT

END:VCALENDAR
