BEGIN:VCALENDAR
VERSION:2.0
PRODID:-//ChamberMaster//Event Calendar 2.0//EN
METHOD:PUBLISH
X-PUBLISHED-TTL:P3D
REFRESH-INTERVAL:P3D
CALSCALE:GREGORIAN
BEGIN:VEVENT
DTSTART:20260116T213000Z
DTEND:20260117T003000Z
X-MICROSOFT-CDO-ALLDAYEVENT:FALSE
SUMMARY:BYO Craft Night
DESCRIPTION:BYO Craft Night is a calm\, restorative space for making alongside others without instruction\, expectation\, or performance. Bring your own project\, settle in at a shared table with soft ambient music\, and enjoy independent\, hands-on creative time. Conversation is optional and organic\; work at your own pace and leave when it feels complete. Free to attend with an optional donation to a local shelter. The market will be open for optional meals or drinks. Adults only please.
X-ALT-DESC;FMTTYPE=text/html:BYO Craft Night is a calm\, restorative space for making alongside others&mdash\;without instruction\, expectation\, or performance. Bring your own project\, settle in at a shared table with soft ambient music\, and enjoy independent\, hands-on creative time. Conversation is optional and organic\; work at your own pace and leave when it feels complete. Free to attend with an optional donation to a local shelter. The market will be open for optional meals or drinks. Adults only please.
LOCATION:The Lucky Gut Collective 10 Wilcox St. Simsbury\, CT
UID:e.3366.3749
SEQUENCE:3
DTSTAMP:20260419T181800Z
URL:https://www.simsburycoc.com/events/details/byo-craft-night-3749
END:VEVENT

END:VCALENDAR
