BEGIN:VCALENDAR
VERSION:2.0
PRODID:-//ChamberMaster//Event Calendar 2.0//EN
METHOD:PUBLISH
X-PUBLISHED-TTL:P3D
REFRESH-INTERVAL:P3D
CALSCALE:GREGORIAN
BEGIN:VEVENT
DTSTART:20250419T160000Z
DTEND:20250419T180000Z
X-MICROSOFT-CDO-ALLDAYEVENT:FALSE
SUMMARY:Dog Star Rescue- Adopt a Rescue Dog & Donation Event @SubherbanLivin
DESCRIPTION:Join us under the Red Stone Pub tent for our Adopt a Rescue Dog with Dog Star Rescue.  SubherbanLivin will be collecting pet supplies from the rescue's wish list\, https://www.amazon.com/hz/wishlist/ls/XZDNFYRSXY/ref=cm_go_nav_hz. \n\nMonetary donations will be used to purchase much needed dog beds.\n\nDay of Event will feature Canine Krack Dehydrated Dog Treats and Tees & Totes T-Shirts. $5 per t-shirt purchase will be donated to the rescue.
X-ALT-DESC;FMTTYPE=text/html:Join us under the Red Stone Pub tent for our Adopt a Rescue Dog with Dog Star Rescue.&nbsp\; SubherbanLivin will be collecting pet supplies from the rescue&#39\;s wish list\,&nbsp\;https://www.amazon.com/hz/wishlist/ls/XZDNFYRSXY/ref=cm_go_nav_hz.&nbsp\;<br />\nMonetary donations will be used to purchase much needed dog beds.<br />\nDay of Event will feature Canine Krack Dehydrated Dog Treats and Tees &amp\; Totes T-Shirts. $5 per t-shirt purchase will be donated to the rescue.
LOCATION:
UID:e.3366.3375
SEQUENCE:3
DTSTAMP:20260423T115726Z
URL:https://www.simsburycoc.com/events/details/dog-star-rescue-adopt-a-rescue-dog-donation-event-3375
END:VEVENT

END:VCALENDAR
