BEGIN:VCALENDAR
VERSION:2.0
PRODID:-//ChamberMaster//Event Calendar 2.0//EN
METHOD:PUBLISH
X-PUBLISHED-TTL:P3D
REFRESH-INTERVAL:P3D
CALSCALE:GREGORIAN
BEGIN:VEVENT
DTSTART:20251129T150000Z
DTEND:20251129T220000Z
X-MICROSOFT-CDO-ALLDAYEVENT:FALSE
SUMMARY:Elephant & Piggie's "We are in a Play!"
DESCRIPTION:An elephant named Gerald and a pig named Piggie are best\, best\, "bestus" friends. Piggie is happier and more excited than usual because she and Gerald are invited to a party hosted by the Squirrelles: three singing squirrels who love to have a good time. And so begins a day when anything is possible! Filled with beloved characters and lively songs\, in Elephant & Piggie's "We Are in a Play!" Gerald and Piggie take to the stage in a rollicking adventure that is perfect for audiences of all ages.
X-ALT-DESC;FMTTYPE=text/html:An elephant named Gerald and a pig named Piggie are best\, best\, &quot\;bestus&quot\; friends. Piggie is happier and more excited than usual because she and Gerald are invited to a party hosted by the Squirrelles: three singing squirrels who love to have a good time. And so begins a day when anything is possible! Filled with beloved characters and lively songs\, in Elephant &amp\; Piggie&#39\;s &quot\;We Are in a Play!&quot\; Gerald and Piggie take to the stage in a rollicking adventure that is perfect for audiences of all ages.
LOCATION:Playhouse on Park 244 Park Road\, West Hartford CT
UID:e.3366.3687
SEQUENCE:3
DTSTAMP:20260419T212617Z
URL:https://www.simsburycoc.com/events/details/elephant-piggie-s-we-are-in-a-play-3687
END:VEVENT

END:VCALENDAR
