BEGIN:VCALENDAR
VERSION:2.0
PRODID:-//ChamberMaster//Event Calendar 2.0//EN
METHOD:PUBLISH
X-PUBLISHED-TTL:P3D
REFRESH-INTERVAL:P3D
CALSCALE:GREGORIAN
BEGIN:VEVENT
DTSTART;VALUE=DATE:20250531
DTEND;VALUE=DATE:20250601
TRANSP:TRANSPARENT
X-MICROSOFT-CDO-ALLDAYEVENT:TRUE
SUMMARY:Free Family Work Out
DESCRIPTION:Come check out our FREE Family Work out of the day at Farmington Valley CrossFit located at 10 Mill Pond Drive\, Granby CT. We offer a coach led class for an hour at 11 am\, the last Saturday of every month for families looking to have some fun and get exercise with their kids! We have kids of varying ages and abilities. Great opportunity for socialization for children\, we have kids from two years old to pre teens! It is quite the unique experience. Lots of laughs and fun to go around all the while getting exercise. This class is a great way to help show your kids the importance and benefits of working out from a young age! Lets cultivate a healthy relationship with ourselves and our children! Bring your work out shoes and lets have some fun! See you there!
X-ALT-DESC;FMTTYPE=text/html:Come check out our <strong>FREE</strong> Family Work out of the day at Farmington Valley CrossFit located at 10 Mill Pond Drive\, Granby CT. We offer <strong>a coach led class for an hour at 11 am\, the last Saturday of every month</strong> for families looking to have some fun and get exercise with their kids! We have kids of varying ages and abilities. Great opportunity for socialization for children\, we have kids from two years old to pre teens! It is quite the unique experience. Lots of laughs and fun to go around all the while getting exercise. This class is a great way to help show your kids the importance and benefits of working out from a young age! Lets cultivate a healthy relationship with ourselves and our children! Bring your work out shoes and lets have some fun! See you there!
LOCATION:10 Mill Pond Drive\, Granby CT
UID:e.3366.3523
SEQUENCE:3
DTSTAMP:20260421T050054Z
URL:https://www.simsburycoc.com/events/details/free-family-work-out-05-31-2025-3523
END:VEVENT

END:VCALENDAR
