BEGIN:VCALENDAR
VERSION:2.0
PRODID:-//ChamberMaster//Event Calendar 2.0//EN
METHOD:PUBLISH
X-PUBLISHED-TTL:P3D
REFRESH-INTERVAL:P3D
CALSCALE:GREGORIAN
BEGIN:VEVENT
DTSTART:20260120T130000Z
DTEND:20260120T140000Z
X-MICROSOFT-CDO-ALLDAYEVENT:FALSE
SUMMARY:Government Affairs Committee Forum
DESCRIPTION:We are pleased to invite you to our Government Affairs Forum. This meeting will serve as a key opportunity for members to stay informed\, engage with community leaders\, and discuss issues impacting local businesses and development.\n\nDate: January 20th\n\nTime: 8:00 AM   9:00 AM\n\nLocation: Simsbury Public Library   Friends Room\n\nOur agenda for this session includes information pertaining to both Granby and Simsbury:\n\n\n	\n	Updates from the Board of Selectmen - \n\n	Mark Fiorentino - Granby 1st selectman\n\n	Mike Paine / Kevin Beal - Simsbury Board of Selectmen\n	\n	\n	Town Planning & Development Updates - \n\n	George McGregor - Simsbury Director of Planning/Development\n\n	Abbey Kenyon - Granby Director of Planning/Development\n\n	Kirk Severance - Granby - Public Works Director\n	Tom Roy - Simsbury Public Works Director\n	\n	\n	\n	Q&A With Chamber Members\n\n	An open conversation addressing the status of key town projects.\n	\n\n\nWe encourage all Chamber members to attend\, ask questions\, and share perspectives as we begin this renewed effort to strengthen communication and collaboration between the business community and local government.
X-ALT-DESC;FMTTYPE=text/html:<p data-end="460" data-start="166"><span style="font-size:14px\;"><span style="font-family:arial\;">We are pleased to invite you to<strong data-end="292" data-start="246">&nbsp\;our Government Affairs Forum.</strong>&nbsp\;This meeting&nbsp\;will serve as a key opportunity for members to stay informed\, engage with community leaders\, and discuss issues impacting local businesses and development.</span></span></p>\n\n<p data-end="569" data-start="462"><span style="font-size:14px\;"><span style="font-family:arial\;"><strong data-end="471" data-start="462">Date:</strong>&nbsp\;January 20th<br data-end="486" data-start="483" />\n<strong data-end="495" data-start="486">Time:</strong>&nbsp\;8:00 AM &ndash\; 9:00 AM<br data-end="517" data-start="514" />\n<strong data-end="530" data-start="517">Location:</strong> Simsbury Public Library &ndash\; Friends Room</span></span></p>\n\n<p data-end="614" data-start="571"><strong><span style="color:#FF0000\;"><span style="font-size:16px\;"><span style="font-family:arial\;">Our agenda for this&nbsp\;session includes information pertaining to both Granby and Simsbury:</span></span></span></strong></p>\n\n<ul data-end="1113" data-start="616">\n	<li data-end="749" data-start="616">\n	<p data-end="749" data-start="618"><span style="font-size:14px\;"><span style="font-family:arial\;"><strong data-end="657" data-start="618">Updates from the Board of Selectmen -&nbsp\;</strong></span></span></p>\n\n	<div data-olk-copy-source="MessageBody" style="border: 0px\; font-variant-numeric: inherit\; font-variant-east-asian: inherit\; font-variant-alternates: inherit\; font-variant-position: inherit\; font-variant-emoji: inherit\; font-stretch: inherit\; font-size: 15px\; line-height: inherit\; font-family: &quot\;Segoe UI&quot\;\, &quot\;Segoe UI Web (West European)&quot\;\, -apple-system\, BlinkMacSystemFont\, Roboto\, &quot\;Helvetica Neue&quot\;\, sans-serif\; font-optical-sizing: inherit\; font-size-adjust: inherit\; font-kerning: inherit\; font-feature-settings: inherit\; font-variation-settings: inherit\; font-language-override: inherit\; margin: 0px\; padding: 0px\; vertical-align: baseline\; color: rgb(36\, 36\, 36)\;">Mark Fiorentino - Granby 1st selectman</div>\n\n	<div style="border: 0px\; font-variant-numeric: inherit\; font-variant-east-asian: inherit\; font-variant-alternates: inherit\; font-variant-position: inherit\; font-variant-emoji: inherit\; font-stretch: inherit\; font-size: 15px\; line-height: inherit\; font-family: &quot\;Segoe UI&quot\;\, &quot\;Segoe UI Web (West European)&quot\;\, -apple-system\, BlinkMacSystemFont\, Roboto\, &quot\;Helvetica Neue&quot\;\, sans-serif\; font-optical-sizing: inherit\; font-size-adjust: inherit\; font-kerning: inherit\; font-feature-settings: inherit\; font-variation-settings: inherit\; font-language-override: inherit\; margin: 0px\; padding: 0px\; vertical-align: baseline\; color: rgb(36\, 36\, 36)\;">Mike Paine / Kevin Beal - Simsbury Board of Selectmen</div>\n	</li>\n	<li data-end="939" data-start="751">\n	<p data-end="939" data-start="753"><span style="font-size:14px\;"><span style="font-family:arial\;"><strong data-end="792" data-start="753">Town Planning &amp\; Development Updates -&nbsp\;</strong></span></span></p>\n\n	<div data-olk-copy-source="MessageBody" style="border: 0px\; font-variant-numeric: inherit\; font-variant-east-asian: inherit\; font-variant-alternates: inherit\; font-variant-position: inherit\; font-variant-emoji: inherit\; font-stretch: inherit\; font-size: 15px\; line-height: inherit\; font-family: &quot\;Segoe UI&quot\;\, &quot\;Segoe UI Web (West European)&quot\;\, -apple-system\, BlinkMacSystemFont\, Roboto\, &quot\;Helvetica Neue&quot\;\, sans-serif\; font-optical-sizing: inherit\; font-size-adjust: inherit\; font-kerning: inherit\; font-feature-settings: inherit\; font-variation-settings: inherit\; font-language-override: inherit\; margin: 0px\; padding: 0px\; vertical-align: baseline\; color: rgb(36\, 36\, 36)\;">George McGregor - Simsbury Director of Planning/Development</div>\n\n	<div style="border: 0px\; font-variant-numeric: inherit\; font-variant-east-asian: inherit\; font-variant-alternates: inherit\; font-variant-position: inherit\; font-variant-emoji: inherit\; font-stretch: inherit\; font-size: 15px\; line-height: inherit\; font-family: &quot\;Segoe UI&quot\;\, &quot\;Segoe UI Web (West European)&quot\;\, -apple-system\, BlinkMacSystemFont\, Roboto\, &quot\;Helvetica Neue&quot\;\, sans-serif\; font-optical-sizing: inherit\; font-size-adjust: inherit\; font-kerning: inherit\; font-feature-settings: inherit\; font-variation-settings: inherit\; font-language-override: inherit\; margin: 0px\; padding: 0px\; vertical-align: baseline\; color: rgb(36\, 36\, 36)\;">Abbey Kenyon - Granby Director of Planning/Development<br />\n	Kirk Severance - Granby - Public Works Director\n	<div style="border: 0px\; font-variant-numeric: inherit\; font-variant-east-asian: inherit\; font-variant-alternates: inherit\; font-variant-position: inherit\; font-variant-emoji: inherit\; font-stretch: inherit\; font-size: 15px\; line-height: inherit\; font-family: &quot\;Segoe UI&quot\;\, &quot\;Segoe UI Web (West European)&quot\;\, -apple-system\, BlinkMacSystemFont\, Roboto\, &quot\;Helvetica Neue&quot\;\, sans-serif\; font-optical-sizing: inherit\; font-size-adjust: inherit\; font-kerning: inherit\; font-feature-settings: inherit\; font-variation-settings: inherit\; font-language-override: inherit\; margin: 0px\; padding: 0px\; vertical-align: baseline\; color: rgb(36\, 36\, 36)\;">Tom Roy - Simsbury Public Works Director</div>\n	</div>\n	</li>\n	<li data-end="1113" data-start="941">\n	<p data-end="1113" data-start="943"><span style="font-size:14px\;"><span style="font-family:arial\;"><strong data-end="971" data-start="943">Q&amp\;A With Chamber Members</strong><br data-end="974" data-start="971" />\n	An open conversation addressing the status of key town projects.</span></span></p>\n	</li>\n</ul>\n\n<p data-end="1327" data-start="1115"><span style="font-size:14px\;"><span style="font-family:arial\;">We encourage all Chamber members to attend\, ask questions\, and share perspectives as we begin this renewed effort to strengthen communication and collaboration between the business community and local government.</span></span></p>\n
LOCATION:Simsbury Public Library Friends Room
UID:e.3366.3740
SEQUENCE:3
DTSTAMP:20260419T194959Z
URL:https://www.simsburycoc.com/events/details/government-affairs-committee-forum-3740
END:VEVENT

END:VCALENDAR
