BEGIN:VCALENDAR
VERSION:2.0
PRODID:-//ChamberMaster//Event Calendar 2.0//EN
METHOD:PUBLISH
X-PUBLISHED-TTL:P3D
REFRESH-INTERVAL:P3D
CALSCALE:GREGORIAN
BEGIN:VEVENT
DTSTART:20260108T223000Z
DTEND:20260109T010000Z
X-MICROSOFT-CDO-ALLDAYEVENT:FALSE
SUMMARY:Valley EntreprenHERS presents: How to Start\, Grow and Monetize your Podcast (For Business Owners)
DESCRIPTION:You must RSVP here: https://luma.com/n836tfa6\n\n\n\nWe're excited to welcome Meg McCabe\, host of the globally ranked Full and Thriving Podcast\, for a free masterclass designed to help you launch and grow a podcast with clarity\, confidence\, and strategy.\n\nIn this session\, you'll learn:\n\n  Why podcasting is a powerful asset for your brand or business\n\n  How to develop a compelling show premise and format\n\n  How to grow your audience and start monetizing\n\n  Practical techniques for booking high-profile guests even as a beginner\n\nThis workshop is ideal for entrepreneurs\, coaches\, creators\, and storytellers ready to elevate their voice and build a podcast that listeners truly love.\n\nWhat to Expect\n\nNetworking & Icebreaker Activities Bring your cards\, connections\, and energy.\n\nEarly Arrival Experience at 5:30 PM Arrive early to enjoy The Lucky Gut Collective's cozy fire pit   or\, if it's too cold\, we'll gather inside to explore the space\, connect\, and mingle. Guests will also receive a $6 drink flight featuring kombucha\, signature iced tea\, and a mocktail (a $2 discount for our group).\n\nWe Begin Promptly at 6:15 PM\n\nAbout The Lucky Gut Collective Meet Lori\, Michelle\, and Sam   local women\, caretakers\, mothers\, and critical thinkers passionate about helping others live vibrant\, healthy lives. Their mission is to support the community through education\, connection\, and natural wellness. Learn more: https://www.luckygut.co\n\nMeet the Speaker: Meg McCabe\n\nMeg McCabe is the owner of Full and Thriving Media and a podcast strategist who helps entrepreneurs create meaningful\, high-impact shows. She launched her mental health coaching practice in 2020 and quickly realized traditional social media wasn't enough to share her message. Turning to podcasting\, Meg grew her show to over 200\,000 downloads and into the top 2.5% of podcasts worldwide\, all while filling her practice within months.\n\nPodcasting transformed her business\, confidence\, and sense of purpose. Today\, she helps others achieve that same level of clarity and impact through intentional storytelling and strategy.\n\nMeg studied Communication and Media Studies at the University of Connecticut and brings deep industry expertise to her work. She lives in West Hartford\, Connecticut with her husband\, their son Jack\, and their Husky-Beagle mix\, Luka. She loves family time\, being outdoors\, travel\, and exploring local restaurants.\n\nWebsite https://www.fullandthrivingmedia.com/\n\nSocial Media Instagram: @thrivingpodcaster TikTok: @megpodcaster
X-ALT-DESC;FMTTYPE=text/html:<p>You must RSVP here:&nbsp\;https://luma.com/n836tfa6<br />\n<br />\nWe&rsquo\;re excited to welcome Meg McCabe\, host of the globally ranked Full and Thriving Podcast\, for a free masterclass designed to help you launch and grow a podcast with clarity\, confidence\, and strategy.</p>\n\n<p>In this session\, you&rsquo\;ll learn:<br />\n&bull\; Why podcasting is a powerful asset for your brand or business<br />\n&bull\; How to develop a compelling show premise and format<br />\n&bull\; How to grow your audience and start monetizing<br />\n&bull\; Practical techniques for booking high-profile guests&mdash\;even as a beginner</p>\n\n<p>This workshop is ideal for entrepreneurs\, coaches\, creators\, and storytellers ready to elevate their voice and build a podcast that listeners truly love.</p>\n\n<p>What to Expect</p>\n\n<p>Networking &amp\; Icebreaker Activities Bring your cards\, connections\, and energy.</p>\n\n<p>Early Arrival Experience at 5:30 PM Arrive early to enjoy <strong>The Lucky Gut Collective&rsquo\;s</strong> cozy fire pit &mdash\; or\, if it&rsquo\;s too cold\, we&rsquo\;ll gather inside to explore the space\, connect\, and mingle. Guests will also receive a $6 drink flight featuring kombucha\, signature iced tea\, and a mocktail (a $2 discount for our group).</p>\n\n<p>We Begin Promptly at 6:15 PM</p>\n\n<p>About The Lucky Gut Collective Meet Lori\, Michelle\, and Sam &mdash\; local women\, caretakers\, mothers\, and critical thinkers passionate about helping others live vibrant\, healthy lives. Their mission is to support the community through education\, connection\, and natural wellness. Learn more:&nbsp\;<a href="https://www.luckygut.co/" rel="nofollow noopener" style="box-sizing: border-box\; text-decoration-line: none\; color: rgb(0\, 122\, 214)\; cursor: pointer\; transition: 0.3s cubic-bezier(0.4\, 0\, 0.2\, 1)\; border-bottom: 1px solid rgba(0\, 122\, 214\, 0.13)\; margin-bottom: 0px\;" target="_blank">https://www.luckygut.co</a></p>\n\n<p>Meet the Speaker: Meg McCabe</p>\n\n<p>Meg McCabe is the owner of Full and Thriving Media and a podcast strategist who helps entrepreneurs create meaningful\, high-impact shows. She launched her mental health coaching practice in 2020 and quickly realized traditional social media wasn&rsquo\;t enough to share her message. Turning to podcasting\, Meg grew her show to over 200\,000 downloads and into the top 2.5% of podcasts worldwide\, all while filling her practice within months.</p>\n\n<p>Podcasting transformed her business\, confidence\, and sense of purpose. Today\, she helps others achieve that same level of clarity and impact through intentional storytelling and strategy.</p>\n\n<p>Meg studied Communication and Media Studies at the University of Connecticut and brings deep industry expertise to her work. She lives in West Hartford\, Connecticut with her husband\, their son Jack\, and their Husky-Beagle mix\, Luka. She loves family time\, being outdoors\, travel\, and exploring local restaurants.</p>\n\n<p>Website&nbsp\;<a href="https://www.fullandthrivingmedia.com/" rel="nofollow noopener" style="box-sizing: border-box\; text-decoration-line: none\; color: rgb(0\, 122\, 214)\; cursor: pointer\; transition: 0.3s cubic-bezier(0.4\, 0\, 0.2\, 1)\; border-bottom: 1px solid rgba(0\, 122\, 214\, 0.13)\; margin-bottom: 0px\;" target="_blank">https://www.fullandthrivingmedia.com/</a></p>\n\n<p>Social Media Instagram: @thrivingpodcaster TikTok: @megpodcaster</p>\n
LOCATION:The Lucky Gut Collective 10 Wilcox St\, Simsbury\, CT 06070
UID:e.3366.3697
SEQUENCE:3
DTSTAMP:20260419T183311Z
URL:https://www.simsburycoc.com/events/details/how-to-start-grow-and-monetize-your-podcast-for-business-owners-3697
END:VEVENT

END:VCALENDAR
