BEGIN:VCALENDAR
VERSION:2.0
PRODID:-//ChamberMaster//Event Calendar 2.0//EN
METHOD:PUBLISH
X-PUBLISHED-TTL:P3D
REFRESH-INTERVAL:P3D
CALSCALE:GREGORIAN
BEGIN:VEVENT
DTSTART:20241214T000000Z
DTEND:20241214T020000Z
X-MICROSOFT-CDO-ALLDAYEVENT:FALSE
SUMMARY:No Guest Fee Pickleball Party
DESCRIPTION:Back by popular demand! Join Racquets for Life Simsbury in December for TWO No Guest Fee Pickleball Parties!\n\n\n\n* Sunday\, December 8 & Friday\, December 13\n\n* 7:00 to 9:00 PM\n\n* $18 For All Players (No matter if you're a member or guest!)\n\n* INCLUDES PIZZA\, BALLS\, & BEVERAGES!\n\n* RFL staff will organize pickleball play & groups to begin.\n\n* For questions\, please contact Joseph Sze at Joseph@rflsimsbury.com\n\n\n\nRegister today at: https://bit.ly/RFL-December-Events
X-ALT-DESC;FMTTYPE=text/html:<span style="color:rgb(0\, 0\, 0)\; font-family:arial\; font-size:10pt"><span style="font-size:10pt"><strong>Back by popular demand! Join Racquets for Life Simsbury in December for TWO No Guest Fee Pickleball Parties!</strong><br />\n<br />\n* Sunday\, December 8 &amp\; Friday\, December 13<br />\n* 7:00 to 9:00 PM<br />\n* $18 For All Players (No matter if you&#39\;re a member or guest!)<br />\n* INCLUDES PIZZA\, BALLS\, &amp\; BEVERAGES!<br />\n* RFL staff will organize pickleball play &amp\; groups to begin.<br />\n* For questions\, please contact Joseph Sze at Joseph@rflsimsbury.com<br />\n<br />\nRegister today at: </span><span style="color:rgb(17\, 85\, 204)\; font-size:10pt"><a class="in-cell-link" href="https://www.rflsimsbury.com/pages/ecalendar/index.cfm?action=month&amp\;startdate=12/01/2024&amp\;showone=0&amp\;showtwo=0" target="_blank">https://bit.ly/RFL-December-Events</a></span></span>
LOCATION:Racquets for Life Simsbury 530 Hopmeadow Street Simsbury\, CT 06070
UID:e.3366.3078
SEQUENCE:3
DTSTAMP:20260424T174156Z
URL:https://www.simsburycoc.com/events/details/no-guest-fee-pickleball-party-12-13-2024-3078
END:VEVENT

END:VCALENDAR
