BEGIN:VCALENDAR
VERSION:2.0
PRODID:-//ChamberMaster//Event Calendar 2.0//EN
METHOD:PUBLISH
X-PUBLISHED-TTL:P3D
REFRESH-INTERVAL:P3D
CALSCALE:GREGORIAN
BEGIN:VEVENT
DTSTART:20260117T160000Z
DTEND:20260117T190000Z
X-MICROSOFT-CDO-ALLDAYEVENT:FALSE
SUMMARY:POSTPONED!! Open House | The Green Teahouse Simsbury
DESCRIPTION:**EVENT TO BE RESCHEDULED\, DATE TBD**\n\n\n\nPlease join us for an Open House celebration at The Green Teahouse in Simsbury. Offering custom blended premium loose-leaf teas since 2009\, The Green Teahouse invites you to come explore the shelves\, meet their team\, and find your new favorite brew. Stop in to welcome this award-winning women-owned small business to Simsbury!\n\n\n\nABOUT THE BUSINESS:\n\nTHE GREEN TEAHOUSE was inspired by two brothers and a sister's passion for unique and premium teas. Since youth they were enamored with their time-honored Chinese tradition of drinking fresh loose tea. Such love fostered their passion and created a renewed respect and appreciation for their culture. Aspiring to share their heritage and rich knowledge of fine tea\, while recognizing America's health awareness\, they ventured to the Western world.\n\n\n\nIn 2009\, The Green Teahouse was established. The brothers-sister team ushered in a new tradition while realizing a childhood dream. Today the fruits of their labor can be enjoyed in America and throughout the world\; proudly offering only the finest teas worthy of bearing The Green Teahouse name.
X-ALT-DESC;FMTTYPE=text/html:<u><span style="color:#B22222\;"><span style="font-size:18px\;">**EVENT TO BE RESCHEDULED\, DATE TBD**</span></span></u><br />\n<br />\nPlease join us for an&nbsp\;Open House celebration at The Green Teahouse in Simsbury.&nbsp\;Offering custom blended premium loose-leaf teas since 2009\, The Green Teahouse invites you to come explore the shelves\, meet their team\, and find your new favorite brew. Stop in to welcome this award-winning women-owned small business to Simsbury!<br />\n<br />\nABOUT THE BUSINESS:<br />\nTHE GREEN TEAHOUSE was inspired by two brothers and a sister&#39\;s passion for unique and premium teas. Since youth they were enamored with their time-honored Chinese tradition of drinking fresh loose tea. Such love fostered their passion and created a renewed respect and appreciation for their culture. Aspiring to share their heritage and rich knowledge of fine tea\, while recognizing America&#39\;s health awareness\, they ventured to the Western world.<br />\n<br />\nIn 2009\, The Green Teahouse was established. The brothers-sister team ushered in a new tradition while realizing a childhood dream. Today the fruits of their labor can be enjoyed in America and throughout the world\; proudly offering only the finest teas worthy of bearing The Green Teahouse name.
LOCATION:552 Hopmeadow Street\, Simsbury
UID:e.3366.3742
SEQUENCE:3
DTSTAMP:20260419T183300Z
URL:https://www.simsburycoc.com/events/details/postponed-open-house-the-green-teahouse-simsbury-3742
END:VEVENT

END:VCALENDAR
