BEGIN:VCALENDAR
VERSION:2.0
PRODID:-//ChamberMaster//Event Calendar 2.0//EN
METHOD:PUBLISH
X-PUBLISHED-TTL:P3D
REFRESH-INTERVAL:P3D
CALSCALE:GREGORIAN
BEGIN:VEVENT
DTSTART:20260522T220000Z
DTEND:20260523T000000Z
X-MICROSOFT-CDO-ALLDAYEVENT:FALSE
SUMMARY:Rally For Her Heart - Tennis Night With a Purpose
DESCRIPTION:Tennis Night With Purpose on April 11 at Racquets For Life - Simsbury Racquet Club \n\n\n\nHeart disease is still the #1 cause of death for women. It's personal. It's preventable. And\, it deserves more attention than it gets.\n\n\n\nSo we're rallying.\n\n\n\nThis will be a fun\, round robin-style night of tennis.\n\nAll levels welcome.\n\nFood\, beverages\, and an incredible community coming together.\n\n\n\nIf you play   come play.\n\nIf you don't   come support.\n\nIf you care about women's health\, please donate.\n\n\n\nTickets are in the link. Spots are limited.\n\n\n\nLet's rally together and change the statistic.\n\nPurchase Tickets here.
X-ALT-DESC;FMTTYPE=text/html:<div>\n<div>Tennis Night With Purpose on April 11 at <span style="font-family:inherit"><a class="x1i10hfl xjbqb8w x1ejq31n x18oe1m7 x1sy0etr xstzfhl x972fbf x10w94by x1qhh985 x14e42zd x9f619 x1ypdohk xt0psk2 x3ct3a4 xdj266r x14z9mp xat24cr x1lziwak xexx8yu xyri2b x18d9i69 x1c1uobl x16tdsg8 x1hl2dhg xggy1nq x1a2a7pz xkrqix3 x1sur9pj x1fey0fg x1s688f" href="https://www.facebook.com/RFLSimsbury?__cft__[0]=AZaU4XdJ4fvHLVcnRiby5Z5UakpPa6Du4s4Hn5448HzcUjDU_GGKWZGoO2dC05gZFMuTRYFCiPke-R96QaVY7TAhrmXQyBzow2kEysUi0W4jOplcB3TQpbaOxe3lfMBC7p4QN6bUnpbg0fI_3mmi84ifbmYrCxmqXgkqNygnqjakjLi79VXXj1oT8mkOX4y-mB0b78bXOH-5O0g5f72-MF8d&amp\;__tn__=-]K-y-R" style="color: rgb(0\, 100\, 209)\; cursor: pointer\; text-decoration-line: none\; outline: none\; border-inline-width: 0px\; margin-inline: 0px\; text-align: inherit\; border-inline-style: none\; padding-inline: 0px\; -webkit-tap-highlight-color: transparent\; font-weight: 600\; list-style-type: none\; box-sizing: border-box\; touch-action: manipulation\; background-color: transparent\; display: inline\; padding-bottom: 0px\; border-top-style: none\; border-bottom-width: 0px\; border-bottom-style: none\; border-top-width: 0px\; margin-bottom: 0px\; margin-top: 0px\; padding-top: 0px\; font-family: inherit\;" tabindex="0"><span style="font-family:inherit">Racquets For Life - Simsbury Racquet Club</span></a></span>&nbsp\;</div>\n</div>\n\n<div>\n<div>Heart disease is still the #1 cause of death for women. It&rsquo\;s personal. It&rsquo\;s preventable. And\, it deserves more attention than it gets.</div>\n</div>\n\n<div>\n<div>So we&rsquo\;re rallying.</div>\n</div>\n\n<div>\n<div>This will be a fun\, round robin-style night of tennis.</div>\n\n<div>All levels welcome.</div>\n\n<div>Food\, beverages\, and an incredible community coming together.</div>\n</div>\n\n<div>\n<div>If you play &mdash\; come play.</div>\n\n<div>If you don&rsquo\;t &mdash\; come support.</div>\n\n<div>If you care about women&rsquo\;s health\, please donate.</div>\n</div>\n\n<div>\n<div>Tickets are in the link. Spots are limited.</div>\n</div>\n\n<div>\n<div>Let&rsquo\;s rally together and change the statistic.<br />\nPurchase Tickets&nbsp\;<a href="https://www.eventbrite.com/e/1984142213773">here</a>.</div>\n</div>\n
LOCATION:Racquets For Life\, Simsbury Purchase Tickets here.
UID:e.3366.3808
SEQUENCE:3
DTSTAMP:20260425T141738Z
URL:https://www.simsburycoc.com/events/details/rally-for-her-heart-tennis-night-with-a-purpose-3808
END:VEVENT

END:VCALENDAR
