BEGIN:VCALENDAR
VERSION:2.0
PRODID:-//ChamberMaster//Event Calendar 2.0//EN
METHOD:PUBLISH
X-PUBLISHED-TTL:P3D
REFRESH-INTERVAL:P3D
CALSCALE:GREGORIAN
BEGIN:VEVENT
DTSTART:20260109T123000Z
DTEND:20260109T140000Z
X-MICROSOFT-CDO-ALLDAYEVENT:FALSE
SUMMARY:Second Friday Morning Networking | Simsbury Dental Associates
DESCRIPTION:Join us for a morning networking breakfast at the recently established multi-specialty dental group\, Simsbury Dental Associates. Connect with local professionals\, exchange ideas\, and build valuable relationships over breakfast. Don't miss this opportunity to expand your network and explore new opportunities for collaboration.\n\n\nCoffee and Breakfast Treats to be served!
X-ALT-DESC;FMTTYPE=text/html:<div color:="" data-olk-copy-source="MessageBody" font-feature-settings:="" font-kerning:="" font-optical-sizing:="" font-size-adjust:="" font-variation-settings:="" helvetica="" margin:="" padding:="" segoe="" ui="" vertical-align:="" web="" west="">Join us for a morning networking breakfast at the&nbsp\;recently established multi-specialty dental group\, Simsbury Dental Associates. Connect with local professionals\, exchange ideas\, and build valuable relationships over breakfast. Don&#39\;t miss this opportunity to expand your network and explore new opportunities for collaboration.</div>\n<br />\nCoffee and Breakfast Treats to be served!
LOCATION:Simsbury Dental Associates 381 Hop Meadow Street\, Suite 302 Weatogue\, CT
UID:e.3366.3741
SEQUENCE:3
DTSTAMP:20260419T195147Z
URL:https://www.simsburycoc.com/events/details/second-friday-morning-networking-simsbury-dental-associates-3741
END:VEVENT

END:VCALENDAR
