BEGIN:VCALENDAR
VERSION:2.0
PRODID:-//ChamberMaster//Event Calendar 2.0//EN
METHOD:PUBLISH
X-PUBLISHED-TTL:P3D
REFRESH-INTERVAL:P3D
CALSCALE:GREGORIAN
BEGIN:VEVENT
DTSTART;VALUE=DATE:20250106
DTEND;VALUE=DATE:20250107
TRANSP:TRANSPARENT
X-MICROSOFT-CDO-ALLDAYEVENT:TRUE
SUMMARY:Session 3 of junior tennis classes at RFL begins January 6!
DESCRIPTION:Session 3 of our junior tennis classes starts on Monday\, January 6! This 8-week session runs from January 6 to March 2 (with High School Tryout Prep Camp from March 10-14).\n\n\n\nAt RFL Simsbury\, we offer junior programming sessions for beginning players aged 4+ through high school and elite national level tennis players with our RFL Simsbury Professional Staff. Both members and non-members are welcome with members having priority sign-up and a discounted program rate.\n\n\n\nLearn more about the programs offered and register your kids today at: https://www.rflsimsbury.com/pages/index.cfm?siteid=22080.\n\n\n\nAnd if you do not see a day/class that works for your junior's level\, please email Erika@rflsimsbury.com with age\, level\, and days that work for them/you and we will work on forming a class with one of our specialized instructors!
X-ALT-DESC;FMTTYPE=text/html:<span style="color:rgb(0\, 0\, 0)\; font-family:arial\; font-size:10pt"><span style="font-size:10pt">Session 3 of our junior tennis classes starts on Monday\, January 6! This 8-week session runs from January 6 to March 2 (with High School Tryout Prep Camp from March 10-14).<br />\n<br />\nAt RFL Simsbury\, we offer junior programming sessions for beginning players aged 4+ through high school and elite national level tennis players with our RFL Simsbury Professional Staff. Both members and non-members are welcome with members having priority sign-up and a discounted program rate.<br />\n<br />\nLearn more about the programs offered and register your kids today at: </span><span style="color:rgb(17\, 85\, 204)\; font-size:10pt"><a class="in-cell-link" href="https://www.rflsimsbury.com/pages/index.cfm?siteid=22080." target="_blank">https://www.rflsimsbury.com/pages/index.cfm?siteid=22080.</a></span><br />\n<br />\n<span style="font-size:10pt">And if you do not see a day/class that works for your junior&rsquo\;s level\, please email Erika@rflsimsbury.com with age\, level\, and days that work for them/you and we will work on forming a class with one of our specialized instructors!</span></span>
LOCATION:Racquets for Life Simsbury 530 Hopmeadow Street Simsbury\, CT 06070
UID:e.3366.3085
SEQUENCE:3
DTSTAMP:20260424T175510Z
URL:https://www.simsburycoc.com/events/details/session-3-of-junior-tennis-classes-at-rfl-begins-january-6-3085
END:VEVENT

END:VCALENDAR
