BEGIN:VCALENDAR
VERSION:2.0
PRODID:-//ChamberMaster//Event Calendar 2.0//EN
METHOD:PUBLISH
X-PUBLISHED-TTL:P3D
REFRESH-INTERVAL:P3D
CALSCALE:GREGORIAN
BEGIN:VEVENT
DTSTART:20251119T150000Z
DTEND:20251123T210000Z
X-MICROSOFT-CDO-ALLDAYEVENT:FALSE
SUMMARY:Shop to Support Tariffville School @SubherbanLivin
DESCRIPTION:Come out to SubherbanLivin\, Simsbury's Give Back Gift Shop\, to support Tariffville School's PTO Program.\n\n10% of all proceeds will be donated to the cause and additional donations can be made at the register.\n\n\n\nLast year we donated $625! Can we beat it? Let's GO!!!!\n\n\n\nTo learn more about our mission visit www.SubHERbanLivinSimsbury.com
X-ALT-DESC;FMTTYPE=text/html:<div>Come out to SubherbanLivin\, Simsbury&#39\;s Give Back Gift Shop\, to support Tariffville School&#39\;s PTO Program.</div>\n\n<div>10% of all proceeds will be donated to the cause and additional donations can be made at the register.</div>\n\n<div><br />\nLast year we donated $625! Can we beat it? Let&#39\;s GO!!!!</div>\n\n<div><br />\nTo learn more about our mission visit&nbsp\;<a class="x1i10hfl xjbqb8w x1ejq31n x18oe1m7 x1sy0etr xstzfhl x972fbf x10w94by x1qhh985 x14e42zd x9f619 x1ypdohk xt0psk2 x3ct3a4 xdj266r x14z9mp xat24cr x1lziwak xexx8yu xyri2b x18d9i69 x1c1uobl x16tdsg8 x1hl2dhg xggy1nq x1a2a7pz xkrqix3 x1sur9pj x1fey0fg x1s688f" href="https://www.subherbanlivinsimsbury.com/?fbclid=IwZXh0bgNhZW0CMTAAYnJpZBExckJvaW1hd0lKNktvaUpFWHNydGMGYXBwX2lkEDIyMjAzOTE3ODgyMDA4OTIIY2FsbHNpdGUBMgABHkqjWtuMh6aQHlY5_Mt2GsNtBKxwkyE5fEs0Q3rMy0eFjsOHw_V3fEojMbDs_aem_PM9vCbZyE_tESBOWxWRxUA" rel="nofollow" style="color: rgb(0\, 100\, 209)\; cursor: pointer\; text-decoration-line: none\; text-align: inherit\; font-weight: 600\; list-style-type: none\; box-sizing: border-box\; background-color: transparent\; display: inline\; outline: none\; -webkit-tap-highlight-color: transparent\; touch-action: manipulation\; border-inline-width: 0px\; margin-inline: 0px\; border-inline-style: none\; padding-inline: 0px\; padding-bottom: 0px\; border-top-style: none\; border-bottom-width: 0px\; border-bottom-style: none\; border-top-width: 0px\; margin-bottom: 0px\; margin-top: 0px\; padding-top: 0px\; font-family: inherit\;" tabindex="0" target="_blank">www.SubHERbanLivinSimsbury.com</a></div>\n
LOCATION:
UID:e.3366.3694
SEQUENCE:3
DTSTAMP:20260419T212725Z
URL:https://www.simsburycoc.com/events/details/shop-to-support-tariffville-school-subherbanlivin-3694
END:VEVENT

END:VCALENDAR
