BEGIN:VCALENDAR
VERSION:2.0
PRODID:-//ChamberMaster//Event Calendar 2.0//EN
METHOD:PUBLISH
X-PUBLISHED-TTL:P3D
REFRESH-INTERVAL:P3D
CALSCALE:GREGORIAN
BEGIN:VEVENT
DTSTART:20260327T213000Z
DTEND:20260327T233000Z
X-MICROSOFT-CDO-ALLDAYEVENT:FALSE
SUMMARY:Teens in the Kitchen: Honey Garlic Chicken & Peanut Butter Cookie Pie
DESCRIPTION:Teens ages 13 17\, grab your apron and join us for a hands-on cooking adventure! Learn essential techniques\, seasoning hacks\, and safe kitchen skills while creating a full (delicious!) meal from scratch. This class is all about confidence\, flavor\, and fun   with honey garlic chicken\, baked jasmine rice\, roasted broccoli\, and a decadent peanut butter cookie pie. Perfect for beginners ready to impress family and friends with real cooking skills!
X-ALT-DESC;FMTTYPE=text/html:Teens ages 13&ndash\;17\, grab your apron and join us for a hands-on cooking adventure! Learn essential techniques\, seasoning hacks\, and safe kitchen skills while creating a full (delicious!) meal from scratch. This class is all about confidence\, flavor\, and fun &mdash\; with honey garlic chicken\, baked jasmine rice\, roasted broccoli\, and a decadent peanut butter cookie pie. Perfect for beginners ready to impress family and friends with real cooking skills!
LOCATION:The Lucky Gut Collective Fiddler's Green 10 Wilcox St. Simsbury\, CT
UID:e.3366.3805
SEQUENCE:3
DTSTAMP:20260419T150756Z
URL:https://www.simsburycoc.com/events/details/teens-in-the-kitchen-honey-garlic-chicken-peanut-butter-cookie-pie-3805
END:VEVENT

END:VCALENDAR
