BEGIN:VCALENDAR
VERSION:2.0
PRODID:-//ChamberMaster//Event Calendar 2.0//EN
METHOD:PUBLISH
X-PUBLISHED-TTL:P3D
REFRESH-INTERVAL:P3D
CALSCALE:GREGORIAN
BEGIN:VEVENT
DTSTART:20260128T223000Z
DTEND:20260129T013000Z
X-MICROSOFT-CDO-ALLDAYEVENT:FALSE
SUMMARY:The Wellness Kitchen: Comfort Food that FEELS Good
DESCRIPTION:Join Ayelet Connell PhD in The Wellness Kitchen: Comfort that FEELS Good! Savor roasted red pepper dip\, mushroom turkey meatloaf\, roasted Brussels sprouts\, herb-kissed root veggies\, and a comforting apple honey cake. Explore homestyle cooking with wellness-focused discussions\, simple techniques\, ingredient upgrades\, and small habits to support everyday health at home.
X-ALT-DESC;FMTTYPE=text/html:Join Ayelet Connell PhD in The Wellness Kitchen: Comfort that FEELS Good! Savor roasted red pepper dip\, mushroom turkey meatloaf\, roasted Brussels sprouts\, herb-kissed root veggies\, and a comforting apple honey cake. Explore homestyle cooking with wellness-focused discussions\, simple techniques\, ingredient upgrades\, and small habits to support everyday health at home.
LOCATION:The Lucky Gut Collective 10 Wilcox St. Simsbury\, CT
UID:e.3366.3748
SEQUENCE:3
DTSTAMP:20260419T183035Z
URL:https://www.simsburycoc.com/events/details/the-wellness-kitchen-comfort-food-that-feels-good-3748
END:VEVENT

END:VCALENDAR
