BEGIN:VCALENDAR
VERSION:2.0
PRODID:-//ChamberMaster//Event Calendar 2.0//EN
METHOD:PUBLISH
X-PUBLISHED-TTL:P3D
REFRESH-INTERVAL:P3D
CALSCALE:GREGORIAN
BEGIN:VEVENT
DTSTART:20260107T223000Z
DTEND:20260108T013000Z
X-MICROSOFT-CDO-ALLDAYEVENT:FALSE
SUMMARY:The Wellness Kitchen: Salmon Supper Edition
DESCRIPTION:Join us for a nourishing winter menu in our Wellness Kitchen series! This weeks' menu features a meal that is wildly good for you & wildly delicious. Join Ayelet Connell\, PhD to enjoy vegan spinach artichoke dip\, mustard dill salmon w/ roasted broccolini & root veggie mash & almond butter brownies. Looking for a healthy twist this year? This series explores basic cooking skills\, whole-food swaps & simple habits that support sustainable wellness while we enjoy warm\, healthy meals together.
X-ALT-DESC;FMTTYPE=text/html:Join us for a nourishing winter menu in our Wellness Kitchen series! This weeks&#39\; menu features a meal that is wildly good for you &amp\; wildly delicious. Join Ayelet Connell\, PhD to enjoy vegan spinach artichoke dip\, mustard dill salmon w/ roasted broccolini &amp\; root veggie mash &amp\; almond butter brownies. Looking for a healthy twist this year? This series explores basic cooking skills\, whole-food swaps &amp\; simple habits that support sustainable wellness while we enjoy warm\, healthy meals together.
LOCATION:The Lucky Gut Collective 10 Wilcox St. Simsbury\, CT
UID:e.3366.3745
SEQUENCE:3
DTSTAMP:20260419T182814Z
URL:https://www.simsburycoc.com/events/details/the-wellness-kitchen-salmon-supper-edition-3745
END:VEVENT

END:VCALENDAR
