BEGIN:VCALENDAR
VERSION:2.0
PRODID:-//ChamberMaster//Event Calendar 2.0//EN
METHOD:PUBLISH
X-PUBLISHED-TTL:P3D
REFRESH-INTERVAL:P3D
CALSCALE:GREGORIAN
BEGIN:VEVENT
DTSTART:20260114T223000Z
DTEND:20260114T233000Z
X-MICROSOFT-CDO-ALLDAYEVENT:FALSE
SUMMARY:The Wellness Kitchen: Taco Night\, Reimagined
DESCRIPTION:Join us with Ayelet Connell\, PhD for a hands-on cooking class that blends great food with a wellness-as-a-lifestyle approach. We'll prepare a vibrant\, crowd-pleasing menu from scratch: fresh guacamole\, juicy steak tacos with zesty peppers and onions\, classic pico de gallo\, and a rich chocolate avocado mousse. A fun\, flavorful evening of cooking\, connection\, and nourishing habits.
X-ALT-DESC;FMTTYPE=text/html:Join us with Ayelet Connell\, PhD for a hands-on cooking class that blends great food with a wellness-as-a-lifestyle approach. We&rsquo\;ll prepare a vibrant\, crowd-pleasing menu from scratch: fresh guacamole\, juicy steak tacos with zesty peppers and onions\, classic pico de gallo\, and a rich chocolate avocado mousse. A fun\, flavorful evening of cooking\, connection\, and nourishing habits.
LOCATION:The Lucky Gut Collective 10 Wilcox St. Simsbury\, CT
UID:e.3366.3746
SEQUENCE:3
DTSTAMP:20260419T195146Z
URL:https://www.simsburycoc.com/events/details/the-wellness-kitchen-taco-night-reimagined-3746
END:VEVENT

END:VCALENDAR
