BEGIN:VCALENDAR
VERSION:2.0
PRODID:-//ChamberMaster//Event Calendar 2.0//EN
METHOD:PUBLISH
X-PUBLISHED-TTL:P3D
REFRESH-INTERVAL:P3D
CALSCALE:GREGORIAN
BEGIN:VEVENT
DTSTART:20260121T223000Z
DTEND:20260122T013000Z
X-MICROSOFT-CDO-ALLDAYEVENT:FALSE
SUMMARY:The Wellness Kitchen: Vibrant Mediterranean Cooking
DESCRIPTION:Join Ayelet Connell PhD in The Wellness Kitchen: Vibrant Mediterranean Cooking! Explore a bright\, flavorful menu featuring sundried tomato olive tapenade\, lemon paprika roasted chicken with cauliflower tabbouleh and rosemary potatoes\, and a fragrant Persian love cake. Learn approachable skills\, balanced flavors\, and alternative ingredients to make healthy\, delicious Mediterranean-inspired meals at home.
X-ALT-DESC;FMTTYPE=text/html:Join Ayelet Connell PhD in The Wellness Kitchen: Vibrant Mediterranean Cooking! Explore a bright\, flavorful menu featuring sundried tomato&ndash\;olive tapenade\, lemon paprika roasted chicken with cauliflower tabbouleh and rosemary potatoes\, and a fragrant Persian love cake. Learn approachable skills\, balanced flavors\, and alternative ingredients to make healthy\, delicious Mediterranean-inspired meals at home.
LOCATION:The Lucky Gut Collective
UID:e.3366.3747
SEQUENCE:3
DTSTAMP:20260419T182848Z
URL:https://www.simsburycoc.com/events/details/the-wellness-kitchen-vibrant-mediterranean-cooking-3747
END:VEVENT

END:VCALENDAR
