BEGIN:VCALENDAR
VERSION:2.0
PRODID:-//ChamberMaster//Event Calendar 2.0//EN
METHOD:PUBLISH
X-PUBLISHED-TTL:P3D
REFRESH-INTERVAL:P3D
CALSCALE:GREGORIAN
BEGIN:VEVENT
DTSTART:20260212T220000Z
DTEND:20260213T000000Z
X-MICROSOFT-CDO-ALLDAYEVENT:FALSE
SUMMARY:Thursday After Hours Networking | Matt Martin State Farm
DESCRIPTION:At Matt Martin State Farm\, we believe in the power of community engagement and the importance of building strong relationships within our neighborhood. We invite you to join us for a special After-Hours event as we celebrate our continued commitment to helping our clients achieve their insurance and financial goals. This evening is a tribute to our shared success as we look forward to many more years of partnership.\n\nBeyond the celebration\, this is a premier opportunity to network with like-minded professionals and community leaders. Expand your circle\, share insights\, and build valuable connections alongside other chamber members. \n\n\nThe After Hours are the Chamber's monthly networking events held at local businesses. These networking events help ensure you make the connections you need and want to grow your business.\n\nEvening networking events are casual and fun\, and where business gets done! Refreshments will be served!
X-ALT-DESC;FMTTYPE=text/html:<span style="font-size:14px\;"><span style="font-family:arial\;"><span data-olk-copy-source="MessageBody">At Matt Martin State Farm\, we believe in the power of community engagement and the importance of building strong relationships within our neighborhood.&nbsp\;</span>We invite you to join us for a special After-Hours event as we celebrate our continued commitment to helping our clients achieve their insurance and financial goals. This evening is a tribute to our shared success as we look forward to many more years of partnership.</span></span>\n\n<p data-path-to-node="4"><span style="font-size:14px\;"><span style="font-family:arial\;">Beyond the celebration\, this is a <b data-index-in-node="34" data-path-to-node="4">premier opportunity to network</b> with like-minded professionals and community leaders. Expand your circle\, share insights\, and build valuable connections alongside other chamber members.&nbsp\;</span></span></p>\n<br />\n<span style="font-size:14px\;">The After Hours are the Chamber&#39\;s monthly networking events held at local businesses. These networking events help ensure you make the connections you need and want to grow your business.</span><br />\n<span style="font-size:14px\;">Evening networking events are casual and fun\, and where business gets done! Refreshments will be served!</span><br />\n&nbsp\;
LOCATION:1243 Hopmeadow Street\, Simsbury
UID:e.3366.3761
SEQUENCE:3
DTSTAMP:20260419T164824Z
URL:https://www.simsburycoc.com/events/details/thursday-after-hours-networking-matt-martin-state-farm-3761
END:VEVENT

END:VCALENDAR
