BEGIN:VCALENDAR
VERSION:2.0
PRODID:-//ChamberMaster//Event Calendar 2.0//EN
METHOD:PUBLISH
X-PUBLISHED-TTL:P3D
REFRESH-INTERVAL:P3D
CALSCALE:GREGORIAN
BEGIN:VEVENT
DTSTART:20260214T210000Z
DTEND:20260214T230000Z
X-MICROSOFT-CDO-ALLDAYEVENT:FALSE
SUMMARY:Valentines Mixed Up Tennis Doubles
DESCRIPTION:Grab your sweetheart\, significant other\, or simply your tennis significant other (favorite mixed doubles partner) and join RFL Simsbury for our Valentines Mixed Up Tennis Doubles! \n\n\n\nSaturday\, February 14 from 4:00 to 6:00pm\n\n\n\nThis is a fun night of social doubles\, including champagne\, strawberries\, apps\, and so much fun! This will be played as an "up and down the river" format so you can drift towards couples of similar levels. Your team must be a level 7.5 combined or lower.\n\n\n\n$40/Members & $50/Non-Members\n\n\n\nSpace is limited to the first 8 teams! Register today  https://www.rflsimsbury.com/pages/ctrflsimsbury/events/valentins-mixed-up-doubles-75-combined-or-lowers-social_958304.cfm
X-ALT-DESC;FMTTYPE=text/html:Grab your sweetheart\, significant other\, or simply your tennis significant other (favorite mixed doubles partner) and join RFL Simsbury for our Valentines Mixed Up Tennis Doubles!&nbsp\;<br />\n<br />\nSaturday\, February 14 from 4:00 to 6:00pm<br />\n<br />\nThis is a fun night of social doubles\, including champagne\, strawberries\, apps\, and so much fun! This will be played as an &ldquo\;up and down the river&rdquo\; format so you can drift towards couples of similar levels. Your team must be a level 7.5 combined or lower.<br />\n<br />\n$40/Members &amp\; $50/Non-Members<br />\n<br />\nSpace is limited to the first 8 teams! Register today&nbsp\; https://www.rflsimsbury.com/pages/ctrflsimsbury/events/valentins-mixed-up-doubles-75-combined-or-lowers-social_958304.cfm&nbsp\;
LOCATION:Racquets for Life Simsbury 530 Hopmeadow Street Simsbury\, CT 06070
UID:e.3366.3764
SEQUENCE:3
DTSTAMP:20260419T165005Z
URL:https://www.simsburycoc.com/events/details/valentines-mixed-up-tennis-doubles-02-14-2026-3764
END:VEVENT

END:VCALENDAR
