BEGIN:VCALENDAR
VERSION:2.0
PRODID:-//ChamberMaster//Event Calendar 2.0//EN
METHOD:PUBLISH
X-PUBLISHED-TTL:P3D
REFRESH-INTERVAL:P3D
CALSCALE:GREGORIAN
BEGIN:VEVENT
DTSTART:20260210T223000Z
DTEND:20260210T233000Z
X-MICROSOFT-CDO-ALLDAYEVENT:FALSE
SUMMARY:Yoga for the Season
DESCRIPTION:This isn't just a class\, it's a weekly ritual. Move with the season in this 60-min all-levels yoga class rooted in Ayurvedas five elements. Warm\, rhythmic movement\, breath\, and rest help you build habits\, unwind\, and connect with your instructor\, your body\, and your community. Stay after for tea (included) by the fire.
X-ALT-DESC;FMTTYPE=text/html:This isn&#39\;t just a class\, it&#39\;s a weekly ritual. Move with the season in this 60-min all-levels yoga class rooted in Ayurvedas five elements. Warm\, rhythmic movement\, breath\, and rest help you build habits\, unwind\, and connect with your instructor\, your body\, and your community. Stay after for tea (included) by the fire.
LOCATION:The Lucky Gut Collective 10 Wilcox St. Simsbury\, CT
UID:e.3366.3750
SEQUENCE:3
DTSTAMP:20260419T182400Z
URL:https://www.simsburycoc.com/events/details/yoga-for-the-season-02-10-2026-3750
END:VEVENT

END:VCALENDAR
