BEGIN:VCALENDAR
VERSION:2.0
PRODID:-//ChamberMaster//Event Calendar 2.0//EN
METHOD:PUBLISH
X-PUBLISHED-TTL:P3D
REFRESH-INTERVAL:P3D
CALSCALE:GREGORIAN
BEGIN:VEVENT
DTSTART:20260106T223000Z
DTEND:20260106T233000Z
X-MICROSOFT-CDO-ALLDAYEVENT:FALSE
SUMMARY:Yoga for the Season
DESCRIPTION:This isn't just a class it's a weekly ritual. Move with the season in this 60-min all-levels yoga class rooted in Ayurveda's five elements. Warm\, rhythmic movement\, breath\, and rest help you build habits\, unwind\, and connect with your instructor\, your body\, and your community. Stay after for tea (included) by the fire. IN JANUARY ONLY: $20 per class or $59 for 4 classes\; book each class individually using the coupon code in your confirmation email.
X-ALT-DESC;FMTTYPE=text/html:This isn&rsquo\;t just a class&mdash\;it&rsquo\;s a weekly ritual. Move with the season in this 60-min all-levels yoga class rooted in Ayurveda&rsquo\;s five elements. Warm\, rhythmic movement\, breath\, and rest help you build habits\, unwind\, and connect&mdash\;with your instructor\, your body\, and your community. Stay after for tea (included) by the fire. IN JANUARY ONLY: $20 per class or $59 for 4 classes\; book each class individually using the coupon code in your confirmation email.
LOCATION:The Lucky Gut Collective 10 Wilcox St. Simsbury\, CT
UID:e.3366.3743
SEQUENCE:3
DTSTAMP:20260419T195037Z
URL:https://www.simsburycoc.com/events/details/yoga-for-the-season-3743
END:VEVENT

END:VCALENDAR
