BEGIN:VCALENDAR
VERSION:2.0
PRODID:-//ChamberMaster//Event Calendar 2.0//EN
METHOD:PUBLISH
X-PUBLISHED-TTL:P3D
REFRESH-INTERVAL:P3D
CALSCALE:GREGORIAN
BEGIN:VEVENT
DTSTART:20250121T223000Z
DTEND:20250122T010000Z
X-MICROSOFT-CDO-ALLDAYEVENT:FALSE
SUMMARY:Young Professionals: Let's Taco 'Bout 2025!
DESCRIPTION:Who: Young Professionals (age 40 and under) in all career paths\n\nWhere: North House\, 1 Nod Road\, Avon CT 06001\n\nWhat: Networking and social event: Let's Taco 'Bout 2025!\n\nWhen: Tuesday\, January 21 from 5:30-8pm\n\nRegistration: $15 per person\, includes a free drink ticket\, Taco bar\, and a free entry to our raffles\n\n\n\nRaffle prizes: \n\n	One free e-blast from the Granby-Simsbury Chamber of Commerce\n	Avocado Ukulele donated by Falcetti School of Music\n\n\n\nThis event is sponsored by Hassett & George\, a full service law firm. The Farmington Valley Young Professionals are so thankful for their support!
X-ALT-DESC;FMTTYPE=text/html:<span style="color:rgb(40\, 56\, 66)\; font-family:roboto\,sans-serif\; font-size:11.5pt"><strong>Who</strong>: Young Professionals (age 40 and under) in all career paths<br />\n<strong>Where</strong>:&nbsp\;North House\, 1 Nod Road\, Avon CT 06001<br />\n<strong>What</strong>: Networking and social event: Let&#39\;s Taco &#39\;Bout 2025!<br />\n<strong>When:</strong>&nbsp\;Tuesday\, January 21 from 5:30-8pm<br />\n<strong>Registration</strong>: $15 per person\, includes a free drink ticket\, Taco bar\, and a free entry to our raffles<br />\n<br />\nRaffle prizes: </span>\n<ul>\n	<li><span style="color:rgb(40\, 56\, 66)\; font-family:roboto\,sans-serif\; font-size:11.5pt">One free e-blast from the Granby-Simsbury Chamber of Commerce</span></li>\n	<li><span style="color:rgb(40\, 56\, 66)\; font-family:roboto\,sans-serif\; font-size:11.5pt">Avocado Ukulele donated by Falcetti School of Music</span></li>\n</ul>\n<br />\n<span style="color:rgb(40\, 56\, 66)\; font-family:roboto\,sans-serif\; font-size:11.5pt">This event is sponsored by <strong>Hassett &amp\; George</strong>\, a full service law firm. The Farmington Valley Young Professionals are so thankful for their support!&nbsp\;</span>
LOCATION:The North House\, 1 Nod Road\, Avon CT 06001
UID:e.3366.3090
SEQUENCE:3
DTSTAMP:20260424T193230Z
URL:https://www.simsburycoc.com/events/details/young-professionals-let-s-taco-bout-2025-3090
END:VEVENT

END:VCALENDAR
